BEGIN:VCALENDAR
VERSION:2.0
PRODID:-//Ana Cvetkovic - ECPv6.9.0//NONSGML v1.0//EN
CALSCALE:GREGORIAN
METHOD:PUBLISH
X-WR-CALNAME:Ana Cvetkovic
X-ORIGINAL-URL:https://cvetkovicana.com
X-WR-CALDESC:Events for Ana Cvetkovic
REFRESH-INTERVAL;VALUE=DURATION:PT1H
X-Robots-Tag:noindex
X-PUBLISHED-TTL:PT1H
BEGIN:VTIMEZONE
TZID:Europe/Belgrade
BEGIN:DAYLIGHT
TZOFFSETFROM:+0100
TZOFFSETTO:+0200
TZNAME:CEST
DTSTART:20230326T010000
END:DAYLIGHT
BEGIN:STANDARD
TZOFFSETFROM:+0200
TZOFFSETTO:+0100
TZNAME:CET
DTSTART:20231029T010000
END:STANDARD
BEGIN:DAYLIGHT
TZOFFSETFROM:+0100
TZOFFSETTO:+0200
TZNAME:CEST
DTSTART:20240331T010000
END:DAYLIGHT
BEGIN:STANDARD
TZOFFSETFROM:+0200
TZOFFSETTO:+0100
TZNAME:CET
DTSTART:20241027T010000
END:STANDARD
END:VTIMEZONE
BEGIN:VEVENT
DTSTART;TZID=Europe/Belgrade:20231115T200000
DTEND;TZID=Europe/Belgrade:20241126T170000
DTSTAMP:20260421T175159
CREATED:20250509T173505Z
LAST-MODIFIED:20250509T173838Z
UID:2521-1700078400-1732640400@cvetkovicana.com
SUMMARY:J.S.Bach Coffeè Cantata BWV 211 / The 20th anniversary of the Belgrade Baroque Ensemble
DESCRIPTION:15.11 2023. Padinska skela/17.11.2023. Bitef Teater\, Belgrade/25.11.2023. Nis\, cultural center /26.11.2023. Novi – Sad\, Edseg Castle. Soloists: Ana Cvetkovic soprano/ Marko Živković tenor / Milan Obradovic baritone /Belgrade Baroque crew: Katarina Popović\, violin/Katarina Aleksić\, violin/Rastko Popović\, viola/Srđan Stanić\, viola da gamba/Jovana Topalov\, harpsichord \nhttps://www.belgradebaroque.com/ \n  \n  \n  \n 
URL:https://cvetkovicana.com/event/j-s-bach-coffee-cantata-bwv-211-the-20th-anniversary-of-the-belgrade-baroque-ensemble/
LOCATION:Schloss Kirchstetten
ATTACH;FMTTYPE=image/jpeg:https://cvetkovicana.com/wp-content/uploads/2025/05/coffe-kantata-web.jpg
END:VEVENT
BEGIN:VEVENT
DTSTART;TZID=Europe/Belgrade:20240129T193000
DTEND;TZID=Europe/Belgrade:20240318T223000
DTSTAMP:20260421T175159
CREATED:20250509T180029Z
LAST-MODIFIED:20250509T180214Z
UID:2531-1706556600-1710801000@cvetkovicana.com
SUMMARY:La Vie Parisienne\, Season 2023/24
DESCRIPTION:performance dates: 29. JANUARY/18.MARCH 2024. \nOpera&Theater Madlenianum\, Belgrade\, 19:20h
URL:https://cvetkovicana.com/event/la-vie-parisienne-2/
LOCATION:Schloss Kirchstetten
ATTACH;FMTTYPE=image/jpeg:https://cvetkovicana.com/wp-content/uploads/2025/05/baronica-we.jpg
END:VEVENT
BEGIN:VEVENT
DTSTART;TZID=Europe/Belgrade:20240220T200000
DTEND;TZID=Europe/Belgrade:20240220T220000
DTSTAMP:20260421T175159
CREATED:20250511T100827Z
LAST-MODIFIED:20250511T100827Z
UID:2549-1708459200-1708466400@cvetkovicana.com
SUMMARY:Evening of Vocal Chamber Music/Kolarac Concert Hall
DESCRIPTION:1. F. Schubert / Romansa (Arietta) iz\nmuzičkog komada. Rozamunde\,\nPrinceza Kipra. D.797 No.3b\nAna Cvetković- sopran\nDušan Toroman – umetnička saradnja\n2. F.Schubert / Auf dem Strom D943\nAna Cvetković – sopran\nIgor Lazić – horna\nDušan Toroman – klavir\n3. Ralph Vaughan Williams / 3 Vokalize\nI. Prelude Moderato\nII. Scherzo. Allegro moderato\nIII. Quasi menuetto. Moderato\nAna Cvetković – sopran\nMiloš Dragić – clarinet\n4. Rahmanjinov Op.38\n1. Noću u mome vrtu / Ночью в саду у меня\n2. Njoj / К ней\n3. Bele rade / Маргаритки\n4. Frulaš / Крысолов\n5. San / Сон\n6. Au! / Ау\nAna Cvetković – sopran\nVladimir Stojnić – umetnička saradnja \n5. Dimitrij Šostakovič Op.127\nSedam romansi na stihove Aleksandra Bloka\nza klavir\, violončelo\, violinu i sopran\n1. Pesma Ofeliji / Песня Офелии\n2. Gamajun ptica proročica / Гамаюн — птица вещая\n3. Zajedno bili smo / Мы были вместе\n4. Grad spava / Город спит\n5. Bura / Буря\n5. Tajni znaci / Тайные знаки\n5. Muzika / Музыка\nAna Cvetković – sopran\nMirjana Nešković – violina (Beogradska Filharmonija)\nKristof Jan – violončelo (Beogradska Filharmonija)\nVladimir Stojnić – klavir
URL:https://cvetkovicana.com/event/evening-of-vocal-chamber-music-kolarac-concert-hall/
LOCATION:Schloss Kirchstetten
ATTACH;FMTTYPE=image/jpeg:https://cvetkovicana.com/wp-content/uploads/2025/05/poster-we.jpg
END:VEVENT
BEGIN:VEVENT
DTSTART;TZID=Europe/Belgrade:20240222T180000
DTEND;TZID=Europe/Belgrade:20240222T200000
DTSTAMP:20260421T175159
CREATED:20250511T104230Z
LAST-MODIFIED:20250511T104230Z
UID:2552-1708624800-1708632000@cvetkovicana.com
SUMMARY:Serbian Academy of Sciences\, SOKOJ Project
DESCRIPTION:Three cycles of Serbian composers Igor Andric/Dragan Latincic/Aleksandar Sedlar \nPiano: Stojnić/Stefanović/Holclajtner \nSoprano: Ana Cvetkovic \nThe concert was supported by Sokoj – Organization of Music Authors of Serbia \n 
URL:https://cvetkovicana.com/event/serbian-academy-of-sciences-sokoj-project/
LOCATION:Schloss Kirchstetten
ATTACH;FMTTYPE=image/jpeg:https://cvetkovicana.com/wp-content/uploads/2025/05/ana-01hh.jpg
END:VEVENT
END:VCALENDAR