BEGIN:VCALENDAR
VERSION:2.0
PRODID:-//Ana Cvetkovic - ECPv6.9.0//NONSGML v1.0//EN
CALSCALE:GREGORIAN
METHOD:PUBLISH
X-ORIGINAL-URL:https://cvetkovicana.com
X-WR-CALDESC:Events for Ana Cvetkovic
REFRESH-INTERVAL;VALUE=DURATION:PT1H
X-Robots-Tag:noindex
X-PUBLISHED-TTL:PT1H
BEGIN:VTIMEZONE
TZID:Europe/Belgrade
BEGIN:DAYLIGHT
TZOFFSETFROM:+0100
TZOFFSETTO:+0200
TZNAME:CEST
DTSTART:20230326T010000
END:DAYLIGHT
BEGIN:STANDARD
TZOFFSETFROM:+0200
TZOFFSETTO:+0100
TZNAME:CET
DTSTART:20231029T010000
END:STANDARD
BEGIN:DAYLIGHT
TZOFFSETFROM:+0100
TZOFFSETTO:+0200
TZNAME:CEST
DTSTART:20240331T010000
END:DAYLIGHT
BEGIN:STANDARD
TZOFFSETFROM:+0200
TZOFFSETTO:+0100
TZNAME:CET
DTSTART:20241027T010000
END:STANDARD
END:VTIMEZONE
BEGIN:VEVENT
DTSTART;TZID=Europe/Belgrade:20231115T200000
DTEND;TZID=Europe/Belgrade:20241126T170000
DTSTAMP:20260421T175356
CREATED:20250509T173505Z
LAST-MODIFIED:20250509T173838Z
UID:2521-1700078400-1732640400@cvetkovicana.com
SUMMARY:J.S.Bach Coffeè Cantata BWV 211 / The 20th anniversary of the Belgrade Baroque Ensemble
DESCRIPTION:15.11 2023. Padinska skela/17.11.2023. Bitef Teater\, Belgrade/25.11.2023. Nis\, cultural center /26.11.2023. Novi – Sad\, Edseg Castle. Soloists: Ana Cvetkovic soprano/ Marko Živković tenor / Milan Obradovic baritone /Belgrade Baroque crew: Katarina Popović\, violin/Katarina Aleksić\, violin/Rastko Popović\, viola/Srđan Stanić\, viola da gamba/Jovana Topalov\, harpsichord \nhttps://www.belgradebaroque.com/ \n  \n  \n  \n 
URL:https://cvetkovicana.com/event/j-s-bach-coffee-cantata-bwv-211-the-20th-anniversary-of-the-belgrade-baroque-ensemble/
LOCATION:Schloss Kirchstetten
ATTACH;FMTTYPE=image/jpeg:https://cvetkovicana.com/wp-content/uploads/2025/05/coffe-kantata-web.jpg
END:VEVENT
BEGIN:VEVENT
DTSTART;TZID=Europe/Belgrade:20240321T190000
DTEND;TZID=Europe/Belgrade:20240321T203000
DTSTAMP:20260421T175356
CREATED:20250509T195420Z
LAST-MODIFIED:20250509T200254Z
UID:2537-1711047600-1711053000@cvetkovicana.com
SUMMARY:Schubert / Beethoven recital
DESCRIPTION:Ana Cvetkovic soprano\, Dušan Toroman piano and Igor Lazic horne. \nL. van Betoven: “An die ferne Geliebte” Op.98 \nBeethoven Sonata for horn and piano\, Op.17\nSchubert Lieber:\nF. Šubert: “Der Vollmond strahlt” op.26\n“Nacht und Träume“ op.43/2\n“Der Zwerg” op.22/1 \nSchubert “Auf dem Strom” op.11 \n\n\n\n\n\n\n\n\n\n\n\n\n\nKragujevac University Gallery. 21.03.2024\, 19h.
URL:https://cvetkovicana.com/event/schubert-beethoven-recital/
LOCATION:Schloss Kirchstetten
ATTACH;FMTTYPE=image/jpeg:https://cvetkovicana.com/wp-content/uploads/2025/05/POSTER-Schubert-trio.jpg
END:VEVENT
END:VCALENDAR