BEGIN:VCALENDAR
VERSION:2.0
PRODID:-//Ana Cvetkovic - ECPv6.9.0//NONSGML v1.0//EN
CALSCALE:GREGORIAN
METHOD:PUBLISH
X-ORIGINAL-URL:https://cvetkovicana.com
X-WR-CALDESC:Events for Ana Cvetkovic
REFRESH-INTERVAL;VALUE=DURATION:PT1H
X-Robots-Tag:noindex
X-PUBLISHED-TTL:PT1H
BEGIN:VTIMEZONE
TZID:Europe/Belgrade
BEGIN:DAYLIGHT
TZOFFSETFROM:+0100
TZOFFSETTO:+0200
TZNAME:CEST
DTSTART:20230326T010000
END:DAYLIGHT
BEGIN:STANDARD
TZOFFSETFROM:+0200
TZOFFSETTO:+0100
TZNAME:CET
DTSTART:20231029T010000
END:STANDARD
END:VTIMEZONE
BEGIN:VEVENT
DTSTART;TZID=Europe/Belgrade:20230807T200000
DTEND;TZID=Europe/Belgrade:20230807T210000
DTSTAMP:20260422T040758
CREATED:20250506T124124Z
LAST-MODIFIED:20250506T125222Z
UID:2495-1691438400-1691442000@cvetkovicana.com
SUMMARY:Ana as Madam Herz
DESCRIPTION:Debut at Rossi Fest in Mozart’s opera Schauspieldirektor as Madame Herz/ 07.08.2023/ Belgrade Rossi Fest/ https://www.rossifest.org/ \n 
URL:https://cvetkovicana.com/event/ana-as-madam-herz/
LOCATION:Schloss Kirchstetten
ATTACH;FMTTYPE=image/jpeg:https://cvetkovicana.com/wp-content/uploads/2025/05/ma.jpg
END:VEVENT
END:VCALENDAR