BEGIN:VCALENDAR
VERSION:2.0
PRODID:-//Ana Cvetkovic - ECPv6.9.0//NONSGML v1.0//EN
CALSCALE:GREGORIAN
METHOD:PUBLISH
X-ORIGINAL-URL:https://cvetkovicana.com
X-WR-CALDESC:Events for Ana Cvetkovic
REFRESH-INTERVAL;VALUE=DURATION:PT1H
X-Robots-Tag:noindex
X-PUBLISHED-TTL:PT1H
BEGIN:VTIMEZONE
TZID:Europe/Belgrade
BEGIN:DAYLIGHT
TZOFFSETFROM:+0100
TZOFFSETTO:+0200
TZNAME:CEST
DTSTART:20230326T010000
END:DAYLIGHT
BEGIN:STANDARD
TZOFFSETFROM:+0200
TZOFFSETTO:+0100
TZNAME:CET
DTSTART:20231029T010000
END:STANDARD
END:VTIMEZONE
BEGIN:VEVENT
DTSTART;TZID=Europe/Belgrade:20230113T200000
DTEND;TZID=Europe/Belgrade:20230113T223000
DTSTAMP:20260422T140843
CREATED:20250506T114653Z
LAST-MODIFIED:20250506T121204Z
UID:2480-1673640000-1673649000@cvetkovicana.com
SUMMARY:Ana as Mozart's Contessa in National Ramanian Opera House Timisoara
DESCRIPTION:Ana is making her House Debut in Romanian Opera House in Timisoara on 14th January 2023. as Contessa from Mozart’s Le Nozze di Figaro.
URL:https://cvetkovicana.com/event/ana-as-mozarts-contessa-in-national-ramanian-opera-house-timisoara/
LOCATION:Schloss Kirchstetten
ATTACH;FMTTYPE=image/jpeg:https://cvetkovicana.com/wp-content/uploads/2025/05/thumbnail-web.jpg
END:VEVENT
END:VCALENDAR