BEGIN:VCALENDAR
VERSION:2.0
PRODID:-//Ana Cvetkovic - ECPv6.9.0//NONSGML v1.0//EN
CALSCALE:GREGORIAN
METHOD:PUBLISH
X-ORIGINAL-URL:https://cvetkovicana.com
X-WR-CALDESC:Events for Ana Cvetkovic
REFRESH-INTERVAL;VALUE=DURATION:PT1H
X-Robots-Tag:noindex
X-PUBLISHED-TTL:PT1H
BEGIN:VTIMEZONE
TZID:Europe/Belgrade
BEGIN:DAYLIGHT
TZOFFSETFROM:+0100
TZOFFSETTO:+0200
TZNAME:CEST
DTSTART:20220327T010000
END:DAYLIGHT
BEGIN:STANDARD
TZOFFSETFROM:+0200
TZOFFSETTO:+0100
TZNAME:CET
DTSTART:20221030T010000
END:STANDARD
END:VTIMEZONE
BEGIN:VEVENT
DTSTART;TZID=Europe/Belgrade:20221001T193000
DTEND;TZID=Europe/Belgrade:20221225T223000
DTSTAMP:20260422T184219
CREATED:20250505T124216Z
LAST-MODIFIED:20250505T124335Z
UID:2463-1664652600-1672007400@cvetkovicana.com
SUMMARY:Ana's role and House Debut as La Baronne de Gondremack in Offenbach's La Vie Parisienne!
DESCRIPTION:Premiere of J.Offenbach’s operetta La Vie Parisienne on 1.October 2022. in Opera & Theater Madlenianum \nUpcoming dates: October 24 /  November 7/ December 25  Season 2022/23.
URL:https://cvetkovicana.com/event/anas-role-and-house-debut-as-la-baronne-de-gondremack-in-offenbachs-la-vie-parisienne/
LOCATION:Schloss Kirchstetten
ATTACH;FMTTYPE=image/jpeg:https://cvetkovicana.com/wp-content/uploads/2025/05/Instagram-postnw.jpg
END:VEVENT
BEGIN:VEVENT
DTSTART;TZID=Europe/Belgrade:20221017T100000
DTEND;TZID=Europe/Belgrade:20221017T230000
DTSTAMP:20260422T184219
CREATED:20250505T125750Z
LAST-MODIFIED:20250505T130520Z
UID:2471-1666000800-1666047600@cvetkovicana.com
SUMMARY:Radio broadcast "Artistic feats of soprano Ana Cvetkovic''
DESCRIPTION:Radio broadcast “Encounters” by Aleksandra Paladin in the studio of Radio Belgrade 1. 17th October 2022. \nThe link for listening: \nhttps://www.rts.rs/lat/radio/radio-beograd-1/4987293/umetnicke-bravure-soprana-ane-cvetkovic-stojnic.html?fbclid=IwAR3nMG39HPcg0oqUS-Jlc6d3Mr4eeHKd0rPPMOWZXWQReOf0W7PbmhB6ol0 \n 
URL:https://cvetkovicana.com/event/radio-broadcast-dedicated-to-soprano-ana-cvetkovic-artistic-feats-of-soprano-ana-cvetkovic/
LOCATION:Schloss Kirchstetten
ATTACH;FMTTYPE=image/jpeg:https://cvetkovicana.com/wp-content/uploads/2025/01/AW2A3985-2-scaled.jpg
END:VEVENT
END:VCALENDAR